BEGIN:VCALENDAR
VERSION:2.0
PRODID:-//Bahnstormer BMW - ECPv6.15.20//NONSGML v1.0//EN
CALSCALE:GREGORIAN
METHOD:PUBLISH
X-ORIGINAL-URL:https://www.bahnstormer.co.uk
X-WR-CALDESC:Events for Bahnstormer BMW
REFRESH-INTERVAL;VALUE=DURATION:PT1H
X-Robots-Tag:noindex
X-PUBLISHED-TTL:PT1H
BEGIN:VTIMEZONE
TZID:UTC
BEGIN:STANDARD
TZOFFSETFROM:+0000
TZOFFSETTO:+0000
TZNAME:UTC
DTSTART:20250101T000000
END:STANDARD
END:VTIMEZONE
BEGIN:VEVENT
DTSTART;VALUE=DATE:20260417
DTEND;VALUE=DATE:20260421
DTSTAMP:20260421T122213
CREATED:20260121T142103Z
LAST-MODIFIED:20260317T170623Z
UID:10000018-1776384000-1776729599@www.bahnstormer.co.uk
SUMMARY:Cornwall Adventure 2026 - SOLD OUT
DESCRIPTION:Join us for a 4-day motorcycle adventure exploring Cornwall’s stunning landscapes\,\nbreathtaking coastlines\, and iconic routes. \n \nCost: \nSingle Occupancy – £775\nDual Occupancy – £875 \n• Accommodation: 3 nights at the Bodmin Jail Hotel \nTrip Itinerary: \nDay 1: Friday\, 17th April\n• Morning: Meet at Bahnstormer and ride to Cornwall.\n• Afternoon: Depending on arrival time\, enjoy a short local ride to explore the Bodmin\nMoor. \nDay 2: Saturday\, 18th April\n• Route: Explore the scenic Cornwall coastline towards Land’s End.\n• Highlights:\n– St Ives: Visit this picturesque fishing town known for its charming harbour and artistic heritage.\n– Porthcurno Beach: Stop at this beautiful beach with turquoise waters and soft sands.\n– Land’s End: Reach the westernmost point of mainland England\, observing dramatic sea views. \nDay 3: Sunday\, 19th April\n• Route: Explore routes reminiscent of last year’s memorable ride.\n• Highlights:\n• Tintagel Castle: Discover the legendary birthplace of King Arthur with its medieval ruins and stunning coastal views.\n• Boscastle: Ride through this quaint village with its scenic harbour and historic charm.\n• Padstow: Visit this bustling town known for its seafood and coastal walks. \nDay 4: Monday\, 20th April\n• Morning: Enjoy a relaxed start to the day.\n• Departure: Riders can make their own way home at their leisure. \nDetails \n• Trip Briefing: We will be hosting a trip briefing and a short ride-out on Saturday the 11th\nApril – 10am
URL:https://www.bahnstormer.co.uk/event/cornwall-adventure-17th-20th-april-2026/
LOCATION:Bodmin Jail hotel\, Scarlett's Well Road\, Bodmin\, Cornwall\, PL312PL\, United Kingdom
CATEGORIES:Ride Outs,Tours
ATTACH;FMTTYPE=image/jpeg:https://www.bahnstormer.co.uk/wp-content/uploads/2026/01/Bodmin-Jail-Hotel-exterior-travel.jpg
ORGANIZER;CN="Bahnstormer Motorrad":MAILTO:rsvp@bahnstormer.co.uk
END:VEVENT
BEGIN:VEVENT
DTSTART;VALUE=DATE:20260302
DTEND;VALUE=DATE:20260310
DTSTAMP:20260421T122213
CREATED:20260109T201138Z
LAST-MODIFIED:20260217T140933Z
UID:10000017-1772409600-1773100799@www.bahnstormer.co.uk
SUMMARY:Spanish Adventure 2026 - SOLD OUT
DESCRIPTION:Date: Monday 2nd March – Monday 9th March\nVenue: Altea\, Spain  \n£1\,649 solo rider in a shared room \n£599 non-riding partner inc. breakfast \n£49/night single room supplement  \nBike drop – Tuesday 24th February from Bahnstormer 10am-2pm \nOutbound – Easyjet 10:50am flight from London Gatwick to Alicante 2 March \nReturn – Easyjet 15:05 flight from Alicante to London Gatwick 9 March \n  \n \nIf you are like us\, by the time we get to the end of February\, we are craving some sunshine! This year\, we have you covered with our Spanish Adventure where you bring your bike and riding kit down to Bahnstormer\, it gets packed up in specially designed motorcycle stillages and driven down to your hotel in Spain for a week of riding and relaxing. \nThe area is an absolute haven for motorcyclists and the hotel that we have chosen is the perfect base to explore from. For 5 of the 6 days that you are in Altea we will have the option of guided tours around the region with Kevin\, who is a seasoned event organiser in Spain. \n“I’ll get you out immediately enjoying incredible routes and views. Each day\, we’ll ride together and I’ll have pre-organised lunch stops along the way. Each route heads in a different direction\, and on one day\, we’ll even venture towards the Valencia region itself. \nOne of the things I really love about this area is how different the scenery is from the Mojacar routes. The mountains are far more dramatic\, and in many places\, the fields are filled with oranges and lemons. In March\, you can expect low to mid-20°C temperatures and blossom in the orchards — perfect for making every ride even more enjoyable. And don’t worry — you’ll be enjoying exciting routes and bends galore! \nThe hotel delivers a 5-star experience in a truly stunning location. I’ve used it many times for European dealer and press launch events\, and it’s simply fantastic.” \n\nThe price includes: \n\nTransport of your bike and kit from Bahnstormer to the hotel\nTransfers from Alicante airport to the hotel\n7 nights B&B at the 5 star SH Villa Gadea Hotel\nPrice is for sharing a room – please contact us for single room etc\nGuided tours if required\nOption to take pedal bikes too – please ask for details\nBike collection from Bahnstormer around 23rd February 2026
URL:https://www.bahnstormer.co.uk/event/spanish-adventure-2nd-to-9th-march-2026/
LOCATION:SH  Villa Gadea\, Partida la Olla\, Altea\, Alicante\, 03590\, Spain
CATEGORIES:Tours
ATTACH;FMTTYPE=image/jpeg:https://www.bahnstormer.co.uk/wp-content/uploads/2026/01/media_1312d7c6f147099e58cfe9f9672c85e87134d90f0.jpg
ORGANIZER;CN="Focused Events":MAILTO:emeline@focusedevents.com
END:VEVENT
END:VCALENDAR